BEGIN:VCALENDAR
VERSION:2.0
PRODID:-//wp-events-plugin.com//6.6.4.4//EN
TZID:Europe/Berlin
X-WR-TIMEZONE:Europe/Berlin
BEGIN:VEVENT
UID:49@lohmuehle-berlin.de
DTSTART;TZID=Europe/Berlin:20260711T150000
DTEND;TZID=Europe/Berlin:20260711T220000
DTSTAMP:20260412T112135Z
URL:https://www.lohmuehle-berlin.de/events/sommertfest/
SUMMARY:***SOMMERFEST***
DESCRIPTION:\n\n\n\nSommerfest auf der Lohmühle!!\n\nMit Konzerten\, Kids-
 Space\, Kaffee und Kuchen\, Essen und Drinks und noch mehr.. \n\n\n\n
END:VEVENT
BEGIN:VTIMEZONE
TZID:Europe/Berlin
X-LIC-LOCATION:Europe/Berlin
BEGIN:DAYLIGHT
DTSTART:20260329T030000
TZOFFSETFROM:+0100
TZOFFSETTO:+0200
TZNAME:CEST
END:DAYLIGHT
END:VTIMEZONE
END:VCALENDAR