BEGIN:VCALENDAR
VERSION:2.0
PRODID:-//wp-events-plugin.com//6.6.4.4//EN
TZID:Europe/Berlin
X-WR-TIMEZONE:Europe/Berlin
BEGIN:VEVENT
UID:50@lohmuehle-berlin.de
DTSTART;TZID=Europe/Berlin:20260505T203000
DTEND;TZID=Europe/Berlin:20260505T220000
DTSTAMP:20260412T103204Z
URL:https://www.lohmuehle-berlin.de/events/kino-operation-ice-storm/
SUMMARY:Kino: Operation ICE-Storm
DESCRIPTION:Make Amerika Go Away (u.a. von Grönland)\,\nOperation ICE-Stor
 m. Germans to the front!\n\n(D. 2026\, 50. Min.\, R: Mike Spike Froidl)\n\
 nEin brandneuer Froidl-Film-Schocker !\nAm Dienstag 5.5.2026 um 20.30 Uhr\
 ,\nKino im K-Amt\, Lohmühle.\n\nNear Future Satire:\nDeutschland hat sich
  hochgerüstet.\nDeutschland hat im Ausland Remigrations Zentren installie
 rt.\nDie USA beginnen die militärische Invasion\nvon Kanada und  europä
 ischer Arktisgebiete.\nDer Bündnisfall tritt ein.\nKanzler Merz..äh .. M
 ey führt die Bundeswehr\nin den 1. Arktischen ICE  Kolonien Krieg.\nEs f
 roit sich auf Euch.. Mike\n\nhttps://vimeo.com/1175175119?fl=ip&amp\;fe=ec
 \n\n&nbsp\;\n\n&nbsp\;\n\n&nbsp\;
ATTACH;FMTTYPE=image/jpeg:https://www.lohmuehle-berlin.de/wp-content/uploa
 ds/2026/04/Kino5.5.jpeg
END:VEVENT
BEGIN:VTIMEZONE
TZID:Europe/Berlin
X-LIC-LOCATION:Europe/Berlin
BEGIN:DAYLIGHT
DTSTART:20260329T030000
TZOFFSETFROM:+0100
TZOFFSETTO:+0200
TZNAME:CEST
END:DAYLIGHT
END:VTIMEZONE
END:VCALENDAR