BEGIN:VCALENDAR
VERSION:2.0
PRODID:-//wp-events-plugin.com//6.6.4.4//EN
TZID:Europe/Berlin
X-WR-TIMEZONE:Europe/Berlin
BEGIN:VEVENT
UID:47@lohmuehle-berlin.de
DTSTART;TZID=Europe/Berlin:20260816T120000
DTEND;TZID=Europe/Berlin:20260816T170000
DTSTAMP:20260412T102108Z
URL:https://www.lohmuehle-berlin.de/events/kiez-flohmarkt-5/
SUMMARY:Kiez-Flohmarkt
DESCRIPTION:Kiez-Flohmarkt auf der Lohmühle\,\n\njeden 3. Sonntag im Monat
 .\n\nMit kalten und warmen Getränken und Kuchen.\n\nAufbau ab 11:00 Uhr\,
  Standgebühr ein Kuchen\, möglichst vegan
END:VEVENT
BEGIN:VTIMEZONE
TZID:Europe/Berlin
X-LIC-LOCATION:Europe/Berlin
BEGIN:DAYLIGHT
DTSTART:20260329T030000
TZOFFSETFROM:+0100
TZOFFSETTO:+0200
TZNAME:CEST
END:DAYLIGHT
END:VTIMEZONE
END:VCALENDAR