BEGIN:VCALENDAR
VERSION:2.0
PRODID:-//wp-events-plugin.com//6.6.4.4//EN
TZID:Europe/Berlin
X-WR-TIMEZONE:Europe/Berlin
BEGIN:VEVENT
UID:44@lohmuehle-berlin.de
DTSTART;TZID=Europe/Berlin:20260517T120000
DTEND;TZID=Europe/Berlin:20260517T170000
DTSTAMP:20260412T112008Z
URL:https://www.lohmuehle-berlin.de/events/kiez-flohmarkt-2/
SUMMARY:Kiez-Flohmarkt
DESCRIPTION:\n\n\n\nAb Mai wieder Kiez-Flohmarkt auf der Lohmühle\,\n\njed
 en 3. Sonntag im Monat.\n\nMit kalten und warmen Getränken und Kuchen.\n\
 nAufbau ab 11:00 Uhr\, Standgebühr ein Kuchen\, möglichst vegan\n\n\n\n
ATTACH;FMTTYPE=image/jpeg:https://www.lohmuehle-berlin.de/wp-content/uploa
 ds/2026/04/Flohmarkt2.png
END:VEVENT
BEGIN:VTIMEZONE
TZID:Europe/Berlin
X-LIC-LOCATION:Europe/Berlin
BEGIN:DAYLIGHT
DTSTART:20260329T030000
TZOFFSETFROM:+0100
TZOFFSETTO:+0200
TZNAME:CEST
END:DAYLIGHT
END:VTIMEZONE
END:VCALENDAR