BEGIN:VCALENDAR
VERSION:2.0
PRODID:-//wp-events-plugin.com//6.6.4.4//EN
TZID:Europe/Berlin
X-WR-TIMEZONE:Europe/Berlin
BEGIN:VEVENT
UID:43@lohmuehle-berlin.de
DTSTART;TZID=Europe/Berlin:20260502T150000
DTEND;TZID=Europe/Berlin:20260502T220000
DTSTAMP:20260412T110641Z
URL:https://www.lohmuehle-berlin.de/events/fruehlingsfest-2/
SUMMARY:*** Frühlingsfest ***
DESCRIPTION:Frühlingsfest auf der Lohmühle! mit Konzerten und Bar! \n\nli
 ve: the garlic we crush\, lena stoehrfaktorr &amp\; das rktb\, 91. bier
END:VEVENT
BEGIN:VTIMEZONE
TZID:Europe/Berlin
X-LIC-LOCATION:Europe/Berlin
BEGIN:DAYLIGHT
DTSTART:20260329T030000
TZOFFSETFROM:+0100
TZOFFSETTO:+0200
TZNAME:CEST
END:DAYLIGHT
END:VTIMEZONE
END:VCALENDAR