BEGIN:VCALENDAR
VERSION:2.0
PRODID:-//wp-events-plugin.com//6.6.4.4//EN
TZID:Europe/Berlin
X-WR-TIMEZONE:Europe/Berlin
BEGIN:VEVENT
UID:51@lohmuehle-berlin.de
DTSTART;TZID=Europe/Berlin:20260524T140000
DTEND;TZID=Europe/Berlin:20260524T210000
DTSTAMP:20260412T110012Z
URL:https://www.lohmuehle-berlin.de/events/cafe-kraenzchen/
SUMMARY:café kränzchen
DESCRIPTION:café kränzchen präsentiert: The Good\, The Dub And The Ugly\
 n\n++ set und deckchen ++ tba\n\n+++ live +++ tba\n\nBier Limo Kaffee\n\nK
 uchen (ohne Gewähr)
END:VEVENT
BEGIN:VTIMEZONE
TZID:Europe/Berlin
X-LIC-LOCATION:Europe/Berlin
BEGIN:DAYLIGHT
DTSTART:20260329T030000
TZOFFSETFROM:+0100
TZOFFSETTO:+0200
TZNAME:CEST
END:DAYLIGHT
END:VTIMEZONE
END:VCALENDAR